Workbook

Sheet Taksitler
A1: Aidat ve Taksit Takip Çizelgesi
A2: Sarı hücreleri doldurun. Durum sütunu vade ve tahsilat tarihine göre otomatik hesaplanır.
A4: Öğrenci Adı | B4: Branş | C4: Dönem/Ay | D4: Vade Tarihi | E4: Tutar (TL) | F4: Tahsil Tarihi | G4: Tahsil Edilen (TL) | H4: Kalan (TL) | I4: Durum
A5: Örnek: Deniz Yılmaz | B5: Piyano | C5: 2026-09 | D5: 2026-09-05 | E5: 3000 | F5: 2026-09-03 | G5: 3000 | H5: =IF(E5="","",E5-N(G5)) -> 0 | I5: =IF(E5="","",IF(N(G5)>=E5,"Ödendi",IF(AND(D5<>"",D5<TODAY()),"Gecikmiş","Bekliyor"))) -> Ödendi
H6: =IF(E6="","",E6-N(G6)) | I6: =IF(E6="","",IF(N(G6)>=E6,"Ödendi",IF(AND(D6<>"",D6<TODAY()),"Gecikmiş","Bekliyor")))
H7: =IF(E7="","",E7-N(G7)) | I7: =IF(E7="","",IF(N(G7)>=E7,"Ödendi",IF(AND(D7<>"",D7<TODAY()),"Gecikmiş","Bekliyor")))
H8: =IF(E8="","",E8-N(G8)) | I8: =IF(E8="","",IF(N(G8)>=E8,"Ödendi",IF(AND(D8<>"",D8<TODAY()),"Gecikmiş","Bekliyor")))
H9: =IF(E9="","",E9-N(G9)) | I9: =IF(E9="","",IF(N(G9)>=E9,"Ödendi",IF(AND(D9<>"",D9<TODAY()),"Gecikmiş","Bekliyor")))
H10: =IF(E10="","",E10-N(G10)) | I10: =IF(E10="","",IF(N(G10)>=E10,"Ödendi",IF(AND(D10<>"",D10<TODAY()),"Gecikmiş","Bekliyor")))
H11: =IF(E11="","",E11-N(G11)) | I11: =IF(E11="","",IF(N(G11)>=E11,"Ödendi",IF(AND(D11<>"",D11<TODAY()),"Gecikmiş","Bekliyor")))
H12: =IF(E12="","",E12-N(G12)) | I12: =IF(E12="","",IF(N(G12)>=E12,"Ödendi",IF(AND(D12<>"",D12<TODAY()),"Gecikmiş","Bekliyor")))
H13: =IF(E13="","",E13-N(G13)) | I13: =IF(E13="","",IF(N(G13)>=E13,"Ödendi",IF(AND(D13<>"",D13<TODAY()),"Gecikmiş","Bekliyor")))
H14: =IF(E14="","",E14-N(G14)) | I14: =IF(E14="","",IF(N(G14)>=E14,"Ödendi",IF(AND(D14<>"",D14<TODAY()),"Gecikmiş","Bekliyor")))
H15: =IF(E15="","",E15-N(G15)) | I15: =IF(E15="","",IF(N(G15)>=E15,"Ödendi",IF(AND(D15<>"",D15<TODAY()),"Gecikmiş","Bekliyor")))
H16: =IF(E16="","",E16-N(G16)) | I16: =IF(E16="","",IF(N(G16)>=E16,"Ödendi",IF(AND(D16<>"",D16<TODAY()),"Gecikmiş","Bekliyor")))
H17: =IF(E17="","",E17-N(G17)) | I17: =IF(E17="","",IF(N(G17)>=E17,"Ödendi",IF(AND(D17<>"",D17<TODAY()),"Gecikmiş","Bekliyor")))
... H304: =IF(E304="","",E304-N(G304)) | I304: =IF(E304="","",IF(N(G304)>=E304,"Ödendi",IF(AND(D304<>"",D304<TODAY()),"Gecikmiş","Bekliyor")))
A307: Bu şablon Kursby tarafından ücretsiz olarak hazırlanmıştır · kursby.com

Sheet Aylık Özet
A1: Aylık Özet
A2: Dönem/Ay sütununa yazdığınız değerlere göre hesaplanır (örn. 2026-09).
A4: Dönem | B4: Toplam Tahakkuk | C4: Tahsil Edilen | D4: Kalan | E4: Gecikmiş Adet
A5: 2026-09 | B5: =SUMIF(Taksitler!$C$5:$C$304,$A5,Taksitler!$E$5:$E$304) -> 3000 | C5: =SUMIF(Taksitler!$C$5:$C$304,$A5,Taksitler!$G$5:$G$304) -> 3000 | D5: =B5-C5 -> 0 | E5: =COUNTIFS(Taksitler!$C$5:$C$304,$A5,Taksitler!$I$5:$I$304,"Gecikmiş") -> 0
A6: 2026-10 | B6: =SUMIF(Taksitler!$C$5:$C$304,$A6,Taksitler!$E$5:$E$304) -> 0 | C6: =SUMIF(Taksitler!$C$5:$C$304,$A6,Taksitler!$G$5:$G$304) -> 0 | D6: =B6-C6 -> 0 | E6: =COUNTIFS(Taksitler!$C$5:$C$304,$A6,Taksitler!$I$5:$I$304,"Gecikmiş") -> 0
A7: 2026-11 | B7: =SUMIF(Taksitler!$C$5:$C$304,$A7,Taksitler!$E$5:$E$304) -> 0 | C7: =SUMIF(Taksitler!$C$5:$C$304,$A7,Taksitler!$G$5:$G$304) -> 0 | D7: =B7-C7 -> 0 | E7: =COUNTIFS(Taksitler!$C$5:$C$304,$A7,Taksitler!$I$5:$I$304,"Gecikmiş") -> 0
A8: 2026-12 | B8: =SUMIF(Taksitler!$C$5:$C$304,$A8,Taksitler!$E$5:$E$304) -> 0 | C8: =SUMIF(Taksitler!$C$5:$C$304,$A8,Taksitler!$G$5:$G$304) -> 0 | D8: =B8-C8 -> 0 | E8: =COUNTIFS(Taksitler!$C$5:$C$304,$A8,Taksitler!$I$5:$I$304,"Gecikmiş") -> 0
A9: 2027-01 | B9: =SUMIF(Taksitler!$C$5:$C$304,$A9,Taksitler!$E$5:$E$304) -> 0 | C9: =SUMIF(Taksitler!$C$5:$C$304,$A9,Taksitler!$G$5:$G$304) -> 0 | D9: =B9-C9 -> 0 | E9: =COUNTIFS(Taksitler!$C$5:$C$304,$A9,Taksitler!$I$5:$I$304,"Gecikmiş") -> 0
A10: 2027-02 | B10: =SUMIF(Taksitler!$C$5:$C$304,$A10,Taksitler!$E$5:$E$304) -> 0 | C10: =SUMIF(Taksitler!$C$5:$C$304,$A10,Taksitler!$G$5:$G$304) -> 0 | D10: =B10-C10 -> 0 | E10: =COUNTIFS(Taksitler!$C$5:$C$304,$A10,Taksitler!$I$5:$I$304,"Gecikmiş") -> 0
A11: 2027-03 | B11: =SUMIF(Taksitler!$C$5:$C$304,$A11,Taksitler!$E$5:$E$304) -> 0 | C11: =SUMIF(Taksitler!$C$5:$C$304,$A11,Taksitler!$G$5:$G$304) -> 0 | D11: =B11-C11 -> 0 | E11: =COUNTIFS(Taksitler!$C$5:$C$304,$A11,Taksitler!$I$5:$I$304,"Gecikmiş") -> 0
A12: 2027-04 | B12: =SUMIF(Taksitler!$C$5:$C$304,$A12,Taksitler!$E$5:$E$304) -> 0 | C12: =SUMIF(Taksitler!$C$5:$C$304,$A12,Taksitler!$G$5:$G$304) -> 0 | D12: =B12-C12 -> 0 | E12: =COUNTIFS(Taksitler!$C$5:$C$304,$A12,Taksitler!$I$5:$I$304,"Gecikmiş") -> 0
A13: 2027-05 | B13: =SUMIF(Taksitler!$C$5:$C$304,$A13,Taksitler!$E$5:$E$304) -> 0 | C13: =SUMIF(Taksitler!$C$5:$C$304,$A13,Taksitler!$G$5:$G$304) -> 0 | D13: =B13-C13 -> 0 | E13: =COUNTIFS(Taksitler!$C$5:$C$304,$A13,Taksitler!$I$5:$I$304,"Gecikmiş") -> 0
A14: 2027-06 | B14: =SUMIF(Taksitler!$C$5:$C$304,$A14,Taksitler!$E$5:$E$304) -> 0 | C14: =SUMIF(Taksitler!$C$5:$C$304,$A14,Taksitler!$G$5:$G$304) -> 0 | D14: =B14-C14 -> 0 | E14: =COUNTIFS(Taksitler!$C$5:$C$304,$A14,Taksitler!$I$5:$I$304,"Gecikmiş") -> 0
A16: TOPLAM | B16: =SUM(B5:B14) -> 3000 | C16: =SUM(C5:C14) -> 3000 | D16: =SUM(D5:D14) -> 0 | E16: =SUM(E5:E14) -> 0
A18: Tahsilat oranı | B18: =IFERROR(C16/B16,0) -> 1
A20: Not: Dönem etiketlerini kendi takviminize göre değiştirebilirsiniz (sarı hücreler).
A22: Bu şablon Kursby tarafından ücretsiz olarak hazırlanmıştır · kursby.com
